BEGIN:VCALENDAR
VERSION:2.0
PRODID:-//IT-Pedagogen.se - ECPv6.15.20//NONSGML v1.0//EN
CALSCALE:GREGORIAN
METHOD:PUBLISH
X-WR-CALNAME:IT-Pedagogen.se
X-ORIGINAL-URL:https://it-pedagogen.se
X-WR-CALDESC:Händelser för IT-Pedagogen.se
REFRESH-INTERVAL;VALUE=DURATION:PT1H
X-Robots-Tag:noindex
X-PUBLISHED-TTL:PT1H
BEGIN:VTIMEZONE
TZID:Europe/Stockholm
BEGIN:DAYLIGHT
TZOFFSETFROM:+0100
TZOFFSETTO:+0200
TZNAME:CEST
DTSTART:20250330T010000
END:DAYLIGHT
BEGIN:STANDARD
TZOFFSETFROM:+0200
TZOFFSETTO:+0100
TZNAME:CET
DTSTART:20251026T010000
END:STANDARD
BEGIN:DAYLIGHT
TZOFFSETFROM:+0100
TZOFFSETTO:+0200
TZNAME:CEST
DTSTART:20260329T010000
END:DAYLIGHT
BEGIN:STANDARD
TZOFFSETFROM:+0200
TZOFFSETTO:+0100
TZNAME:CET
DTSTART:20261025T010000
END:STANDARD
BEGIN:DAYLIGHT
TZOFFSETFROM:+0100
TZOFFSETTO:+0200
TZNAME:CEST
DTSTART:20270328T010000
END:DAYLIGHT
BEGIN:STANDARD
TZOFFSETFROM:+0200
TZOFFSETTO:+0100
TZNAME:CET
DTSTART:20271031T010000
END:STANDARD
END:VTIMEZONE
BEGIN:VEVENT
DTSTART;TZID=Europe/Stockholm:20260318T113000
DTEND;TZID=Europe/Stockholm:20260318T173000
DTSTAMP:20260421T184402
CREATED:20260216T064220Z
LAST-MODIFIED:20260216T074126Z
UID:100406-1773833400-1773855000@it-pedagogen.se
SUMMARY:Skoljobbsmässan 2026
DESCRIPTION:Nu är det snart dags – Skoljobbsmässan 2026 som arrangeras onsdag den 18 mars 2026 och vi ser fram emot att välkomna er till Kulturhuset i Stockholm. \nDet här blir en dag fylld av spännande möten\, inspiration och rekryteringsmöjligheter. \nSkoljobbsmässan är en mötesplats för arbetsgivare inom skol- och utbildningssektorn som vill stärka sin synlighet\, bygga pipeline och möta framtida medarbetare. \nTid & plats\n📍 Kulturhuset Stadsteatern\, Stockholm. Sergels torg nr 3 (mitt över fontänen\, Skoljobbsmässans beachflagga finns utanför entrén)\n🕘 Mässan är öppen kl. 11:30–17:30 \nVarmt välkomna till Skoljobbsmässan 2026! \nTeamet bakom Skoljobbsmässan på Skoljobb.se
URL:https://it-pedagogen.se/event/skoljobbsmassan-2026/
LOCATION:Kulturhuset\, Sweden
CATEGORIES:Event
ATTACH;FMTTYPE=image/jpeg:https://it-pedagogen.se/wp-content/uploads/2026/02/Skarmbild-2026-02-16-074100-rtetet.jpg
END:VEVENT
END:VCALENDAR